BEGIN:VCALENDAR
VERSION:2.0
PRODID:-//Paul, der Hund vom Bauernhof - ECPv6.15.20//NONSGML v1.0//EN
CALSCALE:GREGORIAN
METHOD:PUBLISH
X-ORIGINAL-URL:https://www.paul-der-hund.de
X-WR-CALDESC:Veranstaltungen für Paul, der Hund vom Bauernhof
REFRESH-INTERVAL;VALUE=DURATION:PT1H
X-Robots-Tag:noindex
X-PUBLISHED-TTL:PT1H
BEGIN:VTIMEZONE
TZID:Europe/Berlin
BEGIN:DAYLIGHT
TZOFFSETFROM:+0100
TZOFFSETTO:+0200
TZNAME:CEST
DTSTART:20260329T010000
END:DAYLIGHT
BEGIN:STANDARD
TZOFFSETFROM:+0200
TZOFFSETTO:+0100
TZNAME:CET
DTSTART:20261025T010000
END:STANDARD
BEGIN:DAYLIGHT
TZOFFSETFROM:+0100
TZOFFSETTO:+0200
TZNAME:CEST
DTSTART:20270328T010000
END:DAYLIGHT
BEGIN:STANDARD
TZOFFSETFROM:+0200
TZOFFSETTO:+0100
TZNAME:CET
DTSTART:20271031T010000
END:STANDARD
BEGIN:DAYLIGHT
TZOFFSETFROM:+0100
TZOFFSETTO:+0200
TZNAME:CEST
DTSTART:20280326T010000
END:DAYLIGHT
BEGIN:STANDARD
TZOFFSETFROM:+0200
TZOFFSETTO:+0100
TZNAME:CET
DTSTART:20281029T010000
END:STANDARD
END:VTIMEZONE
BEGIN:VEVENT
DTSTART;VALUE=DATE:20270302
DTEND;VALUE=DATE:20270305
DTSTAMP:20260424T105216
CREATED:20260115T160549Z
LAST-MODIFIED:20260304T143835Z
UID:2387-1803945600-1804204799@www.paul-der-hund.de
SUMMARY:Malwettbewerb Landwirtschaftsmesse Ostfriesland
DESCRIPTION:  \n \nGerade hat das Jahr 2026 angefangen – und schon gibt es den nächsten Malwettbewerb von “Paul\, der Hund vom Bauernhof”. Wir laden Euch ein auf die Landwirtschaftsmesse Ostfriesland\, die vom 21. bis 23. Januar in Aurich auf dem Mehrzweckgelände Tannenhausen stattfindet. Es gibt dort am Stand 713 neue Malvorlagen\, die Ihr oder Eure (Groß-)Eltern auch nach Hause zum Ausmalen mitnehmen könnt – und natürlich könnt Ihr auch wieder tolle Preise gewinnen. Kommt vorbei – es lohnt sich mitzumachen.
URL:https://www.paul-der-hund.de/event/malwettbewerb-landwirtschaftsmesse-ostfriesland-2/
LOCATION:Aurich\, Am Stadion 18\, Aurich\, Niedersachsen\, 22607\, Germany
CATEGORIES:Malwettbewerb
END:VEVENT
END:VCALENDAR