BEGIN:VCALENDAR
VERSION:2.0
PRODID:-//Paul, der Hund vom Bauernhof - ECPv6.15.20//NONSGML v1.0//EN
CALSCALE:GREGORIAN
METHOD:PUBLISH
X-ORIGINAL-URL:https://www.paul-der-hund.de
X-WR-CALDESC:Veranstaltungen für Paul, der Hund vom Bauernhof
REFRESH-INTERVAL;VALUE=DURATION:PT1H
X-Robots-Tag:noindex
X-PUBLISHED-TTL:PT1H
BEGIN:VTIMEZONE
TZID:Europe/Berlin
BEGIN:DAYLIGHT
TZOFFSETFROM:+0100
TZOFFSETTO:+0200
TZNAME:CEST
DTSTART:20250330T010000
END:DAYLIGHT
BEGIN:STANDARD
TZOFFSETFROM:+0200
TZOFFSETTO:+0100
TZNAME:CET
DTSTART:20251026T010000
END:STANDARD
BEGIN:DAYLIGHT
TZOFFSETFROM:+0100
TZOFFSETTO:+0200
TZNAME:CEST
DTSTART:20260329T010000
END:DAYLIGHT
BEGIN:STANDARD
TZOFFSETFROM:+0200
TZOFFSETTO:+0100
TZNAME:CET
DTSTART:20261025T010000
END:STANDARD
BEGIN:DAYLIGHT
TZOFFSETFROM:+0100
TZOFFSETTO:+0200
TZNAME:CEST
DTSTART:20270328T010000
END:DAYLIGHT
BEGIN:STANDARD
TZOFFSETFROM:+0200
TZOFFSETTO:+0100
TZNAME:CET
DTSTART:20271031T010000
END:STANDARD
END:VTIMEZONE
BEGIN:VEVENT
DTSTART;VALUE=DATE:20260616
DTEND;VALUE=DATE:20260619
DTSTAMP:20260423T195619
CREATED:20260304T143502Z
LAST-MODIFIED:20260304T143502Z
UID:2407-1781568000-1781827199@www.paul-der-hund.de
SUMMARY:Malwettbewerb DLG-Feldtage
DESCRIPTION:Mitten im Juni ist Paul\, der Hund vom Bauernhof zu Gast bei den DLG-Feldtagen. Das ist die größte Freilandmesse der Landwirtschaft für Pflanzenbau und Landtechnik. Sie findet alle zwei Jahre statt. Veranstaltungsort ist in diesem Jahr Bernburg in Sachsen-Anhalt. Auf dem Messegelände gibt es einen speziellen Kids-Bereich\, auf dem wir mit unserem Malwettbewerb ebenfalls vertreten sind. Die Messe findet vom 16. bis 18. Juni 2026 statt.
URL:https://www.paul-der-hund.de/event/malwettbewerb-dlg-feldtage/
LOCATION:Bernburg\, Am Gutshof 3\, Bernburg-Strenzfeld\, 06406
CATEGORIES:Malwettbewerb
ORGANIZER;CN="Sattler Agrar Media":MAILTO:sam@sattler.media
END:VEVENT
END:VCALENDAR