BEGIN:VCALENDAR
VERSION:2.0
PRODID:-//Paul, der Hund vom Bauernhof - ECPv6.15.20//NONSGML v1.0//EN
CALSCALE:GREGORIAN
METHOD:PUBLISH
X-ORIGINAL-URL:https://www.paul-der-hund.de
X-WR-CALDESC:Veranstaltungen für Paul, der Hund vom Bauernhof
REFRESH-INTERVAL;VALUE=DURATION:PT1H
X-Robots-Tag:noindex
X-PUBLISHED-TTL:PT1H
BEGIN:VTIMEZONE
TZID:Europe/Berlin
BEGIN:DAYLIGHT
TZOFFSETFROM:+0100
TZOFFSETTO:+0200
TZNAME:CEST
DTSTART:20240331T010000
END:DAYLIGHT
BEGIN:STANDARD
TZOFFSETFROM:+0200
TZOFFSETTO:+0100
TZNAME:CET
DTSTART:20241027T010000
END:STANDARD
BEGIN:DAYLIGHT
TZOFFSETFROM:+0100
TZOFFSETTO:+0200
TZNAME:CEST
DTSTART:20250330T010000
END:DAYLIGHT
BEGIN:STANDARD
TZOFFSETFROM:+0200
TZOFFSETTO:+0100
TZNAME:CET
DTSTART:20251026T010000
END:STANDARD
BEGIN:DAYLIGHT
TZOFFSETFROM:+0100
TZOFFSETTO:+0200
TZNAME:CEST
DTSTART:20260329T010000
END:DAYLIGHT
BEGIN:STANDARD
TZOFFSETFROM:+0200
TZOFFSETTO:+0100
TZNAME:CET
DTSTART:20261025T010000
END:STANDARD
END:VTIMEZONE
BEGIN:VEVENT
DTSTART;VALUE=DATE:20250122
DTEND;VALUE=DATE:20250126
DTSTAMP:20260425T002951
CREATED:20240814T084204Z
LAST-MODIFIED:20250303T115918Z
UID:2227-1737507600-1737766799@www.paul-der-hund.de
SUMMARY:Malwettbewerb Landwirtschaftsmesse Ostfriesland
DESCRIPTION:Die Landwirtschaftsmesse Ostfriesland ist eine der ersten im Kalenderjahr. Für Paul\, der Hund vom Bauernhof ist es die erste mit Malwettbewerb. Sie findet vom 22. bis 24. Januar auf dem Messegelände in Aurich statt.. Schon im letzten Jahr gab es dort einenvon Paul\, der Hund vom Bauernhof. Dafür kooperieren wir – wie schon in diesem Jahr in Aurich/Ostfriesland und Olsberg/Sauerland mit dem Veranstalter der Fachmesse CNO Expo. Sobald die Stand-Nummer unseres Ausstellungsbereiches feststeht\, geben wir das hier bekannt. Als Hauptpreis wird ein großer Trettraktor von RollyToys verlost.
URL:https://www.paul-der-hund.de/event/malwettbewerb-landwirtschaftsmesse-ostfriesland/
LOCATION:Aurich\, Am Stadion 18\, Aurich\, Niedersachsen\, 22607\, Germany
CATEGORIES:Malwettbewerb
ORGANIZER;CN="Sattler Agrar Media":MAILTO:sam@sattler.media
END:VEVENT
END:VCALENDAR